{
 "currentVersion": 10.9,
 "serviceDescription": "NHD Waterbodies and Flowlines",
 "mapName": "Layers",
 "description": "",
 "copyrightText": "USGS, CURA",
 "supportsDynamicLayers": true,
 "layers": [],
 "tables": [],
 "spatialReference": {
  "wkid": 4269,
  "latestWkid": 4269
 },
 "singleFusedMapCache": true,
 "tileInfo": {
  "rows": 256,
  "cols": 256,
  "dpi": 96,
  "format": "PNG",
  "compressionQuality": 0,
  "origin": {
   "x": -400,
   "y": 399.9999999999998
  },
  "spatialReference": {
   "wkid": 4269,
   "latestWkid": 4269
  },
  "lods": [
   {
    "level": 0,
    "resolution": 0.01903568804664224,
    "scale": 8000000
   },
   {
    "level": 1,
    "resolution": 0.00951784402332112,
    "scale": 4000000
   },
   {
    "level": 2,
    "resolution": 0.00475892201166056,
    "scale": 2000000
   },
   {
    "level": 3,
    "resolution": 0.00237946100583028,
    "scale": 1000000
   },
   {
    "level": 4,
    "resolution": 0.00118973050291514,
    "scale": 500000
   },
   {
    "level": 5,
    "resolution": 5.9486525145757E-4,
    "scale": 250000
   },
   {
    "level": 6,
    "resolution": 2.97432625728785E-4,
    "scale": 125000
   },
   {
    "level": 7,
    "resolution": 1.5228550437313792E-4,
    "scale": 64000
   },
   {
    "level": 8,
    "resolution": 7.614275218656896E-5,
    "scale": 32000
   },
   {
    "level": 9,
    "resolution": 3.807137609328448E-5,
    "scale": 16000
   },
   {
    "level": 10,
    "resolution": 1.903568804664224E-5,
    "scale": 8000
   },
   {
    "level": 11,
    "resolution": 9.51784402332112E-6,
    "scale": 4000
   }
  ]
 },
 "initialExtent": {
  "xmin": -83.00951727346998,
  "ymin": 40.13293827047277,
  "xmax": -82.76324305936654,
  "ymax": 40.34066521628174,
  "spatialReference": {
   "wkid": 4269,
   "latestWkid": 4269
  }
 },
 "fullExtent": {
  "xmin": "NaN",
  "ymin": "NaN",
  "xmax": "NaN",
  "ymax": "NaN",
  "spatialReference": {
   "wkid": 4269,
   "latestWkid": 4269
  }
 },
 "minScale": 500000,
 "maxScale": 8000,
 "units": "esriDecimalDegrees",
 "supportedImageFormatTypes": "PNG32,PNG24,PNG,JPG,DIB,TIFF,EMF,PS,PDF,GIF,SVG,SVGZ,BMP",
 "documentInfo": {
  "Title": "",
  "Author": "",
  "Comments": "",
  "Subject": "",
  "Category": "",
  "AntialiasingMode": "None",
  "TextAntialiasingMode": "Force",
  "Keywords": "NHD,Waterbodies ,Flowlines"
 },
 "capabilities": "Map,Query,Data",
 "supportedQueryFormats": "JSON, geoJSON",
 "exportTilesAllowed": false,
 "referenceScale": 0,
 "supportsDatumTransformation": true,
 "maxRecordCount": 1000,
 "maxImageHeight": 4096,
 "maxImageWidth": 4096,
 "supportedExtensions": "KmlServer"
}
