<?xml version="1.0" encoding="UTF-8" standalone="no"?>
<metadata>
<idinfo>
<citation>
<citeinfo>
<origin>State of Ohio Office of Information Technology, Ohio Geographically Referenced Information Program</origin>
<pubdate>20131118</pubdate>
<pubtime>Unknown</pubtime>
<title>Lima_RGB_100x.sid</title>
<geoform>raster digital data</geoform>
<pubinfo>
<pubplace>Columbus, OH</pubplace>
<publish>OGRIP</publish>
</pubinfo>
</citeinfo>
</citation>
<descript>
<abstract>The 2013 Allen County Digital Orthoimagery Project - In the Spring of 2013, AllenCounty obtained new orthoimagery covering the entire county (+/- 407 sq. miles). Products produced (in addition to 4-band, 8-bit orthophotos and Countywide RGB &amp; CIR MrSIDs (30x &amp; 100x Compression)) included City of Lima MrSID (RGB - 100x Compression) . The aerial imagery was collected during leaf-off conditions at a minimum resolution of 6-inch resolution. Along the perimeter of the project area, ortho-imagery is buffered at 100-feet. Adjacent flight lines overlap by an average of 30 percent. Imagery was collected with Leica ADS80 digital cameras and rectified using LiDAR data. Ownership of the data products resides with Allen County and the state of Ohio. Orthoimagery and ancillary data products produced through this contract are public domain data.</abstract>
<purpose>The state of Ohio has a goal to develop and maintain a seamless statewide base map, referred to as OSIP (Ohio Statewide Imagery Program). OSIP is an initiative partnered through several State Agencies (i.e. ODOT, ODNR, OEPA) through OGRIP. USGS is also a partner. Data from this project forms the foundation of the statewide base map, and was developed primarily to support multi-use applications, including homeland security, emergency management, economic development, and the business of government.</purpose>
</descript>
<timeperd>
<timeinfo>
<rngdates>
<begdate>20130323</begdate>
<enddate>20130422</enddate>
</rngdates>
</timeinfo>
<current>ground condition</current>
</timeperd>
<status>
<progress>Complete</progress>
<update>As needed</update>
</status>
<spdom>
<bounding>
<westbc>-84.228998</westbc>
<eastbc>-83.990012</eastbc>
<northbc>40.823492</northbc>
<southbc>40.634953</southbc>
</bounding>
</spdom>
<keywords>
<theme>
<themekt>None</themekt>
<themekey>Raster</themekey>
<themekey>Orthophoto</themekey>
</theme>
<place>
<placekt>none</placekt>
<placekey>United States</placekey>
<placekey>Ohio</placekey>
<placekey>Allen County, OH</placekey>
<placekey>Township</placekey>
</place>
</keywords>
<accconst>This data set is in the public domain, and the recipient may not assert any proprietary rights thereto nor represent it to any one as other than a data set produced by the Allen County Auditor's Office and the Ohio Statewide Imagery Program.</accconst>
<useconst>This data is for planning purposes only and should not be used for legal or cadastral purposes. This data set is provided "as-is" without warranty of any kind, including, but not limited to, the implied warranties of merchantability and fitness for a particular purpose. User must assume responsiblity for determining the suitability of these data for their purposes.</useconst>
<ptcontac>
<cntinfo>
<cntorgp>
<cntorg>OGRIP</cntorg>
</cntorgp>
<cntpos>GIS Manager</cntpos>
<cntaddr>
<addrtype>mailing and physical address</addrtype>
<address>77 S. High St. - Rm 1990</address>
<city>Columbus</city>
<state>OH</state>
<postal>43215</postal>
<country>USA</country>
</cntaddr>
<cntvoice>(614) 466-4747</cntvoice>
<cntfax>(614) 728-5297</cntfax>
</cntinfo>
</ptcontac>
<native/>
</idinfo>
<dataqual>
<logic>This orthophoto imagery follows the boundary of Allen County (+/- 407 square miles).</logic>
<complete>The dataset is complete</complete>
<posacc>
<horizpa>
<horizpar>The orthoimagery meets the National Map Accuracy Standards for 1"=100' scale.</horizpar>
<qhorizpa>
<horizpav>3.33 feet</horizpav>
<horizpae>All control points and test points that are visible on the aerial photography are visited on screen and the X, Y coordinates are displayed. This information is cross-referenced with the X, Y information provided by the ground survey.</horizpae>
</qhorizpa>
</horizpa>
</posacc>
<lineage>
<procstep>
<procdesc>The Leica ADS80-SH81/82 Airborne Digital Sensor is a push-broom geometry sensor, collecting 12-bit data with 12,000 pixel swath coverage with up to a 5-centimeter spatial resolution. The sensor is capable of collecting multiple spectral bands and angles simultaneously. Leica’s ADS80 collects seven bands of imagery simultaneously: three panchromatic CCD lines capture information in the forward, nadir and backward views from the aircraft, while four multispectral lines capture data in the red, green, blue, and near color infrared band. The imagery for this task order was acquired using the Leica ADS80-SH81/82 multispectral scanner. The ADS80-SH81/82 utilizes the Leica’s IPAS20 direct positioning and orientation system that is based on airborne GPS and inertial measurement unit (IMU) technology. The IPAS20 data were reduced using Leica’s IPAS Pro v1.3 software package. All of the source imagery was processed using the Leica XPRO (V5.2) software package. This package provides the capability to perform digital image processing, aerial triangulation, and image rectification. The strips of imagery were ortho rectified to newly collected LiDAR digtial elevation model (DEM) data. The individual rectified strips of ortho rectified imagery were then mosaicked together to form a seamless imagery database over the entire task order area using the OrthoVista software (V4.5) by Inpho GmbH. The final digital orthophoto imagery (DOI) were extracted using OrthoVista.</procdesc>
<procdate>20130323</procdate>
<proccont>
<cntinfo>
<cntorgp>
<cntorg>Woolpert, Inc.</cntorg>
</cntorgp>
<cntpos>Geospatial Services</cntpos>
<cntaddr>
<addrtype>mailing and physical address</addrtype>
<address>4454 Idea Center Blvd.</address>
<city>Dayton</city>
<state>OH</state>
<postal>45430</postal>
<country>USA</country>
</cntaddr>
<cntvoice>(937) 461-5660</cntvoice>
<cntfax>(937) 461-0743</cntfax>
<hours>8:00 a.m. to 5:00 p.m. Eastern Time</hours>
</cntinfo>
</proccont>
</procstep>
</lineage>
<cloud>0</cloud>
</dataqual>
<spdoinfo>
<direct>Raster</direct>
<rastinfo>
<rasttype>Pixel</rasttype>
<rowcount>135000</rowcount>
<colcount>130000</colcount>
</rastinfo>
</spdoinfo>
<spref>
<horizsys>
<planar>
<mapproj>
<mapprojn>NAD83 HARN Ohio North ftUS</mapprojn>
<lambertc>
<stdparll>41.7</stdparll>
<stdparll>40.43333333333333</stdparll>
<longcm>-82.5</longcm>
<latprjo>39.66666666666666</latprjo>
<feast>1968500.0</feast>
<fnorth>0.0</fnorth>
</lambertc>
</mapproj>
<planci>
<plance>coordinate pair</plance>
<coordrep>
<absres>0.000000026852386980635863</absres>
<ordres>0.000000026852386980635863</ordres>
</coordrep>
<plandu>foot_us</plandu>
</planci>
</planar>
<geodetic>
<horizdn>D North American 1983 HARN</horizdn>
<ellips>GRS 1980</ellips>
<semiaxis>6378137.0</semiaxis>
<denflat>298.257222101</denflat>
</geodetic>
</horizsys>
</spref>
<distinfo>
<distrib>
<cntinfo>
<cntorgp>
<cntorg>OGRIP</cntorg>
</cntorgp>
<cntpos>GIS Manager</cntpos>
<cntaddr>
<addrtype>mailing and physical address</addrtype>
<address>77 S. High St. - Rm 1990</address>
<city>Columbus</city>
<state>OH</state>
<postal>43215</postal>
<country>USA</country>
</cntaddr>
<cntvoice>(614) 466-4747</cntvoice>
<cntfax>(614) 728-5297</cntfax>
</cntinfo>
</distrib>
<resdesc>Downloadable Data</resdesc>
<distliab>Woolpert prepared the original data as set forth in the Scope of Services, in accordance with reasonable care and due diligence as set forth in this Agreement, however, due to the easily alterable nature of electronic media, files, documents, and other deliverables, Woolpert, Inc. makes no warranties, either expressed or implied, with respect to the accuracy, completeness, merchantability, or fitness for any particular purpose, including, but not limited to, use of any/all data as described within this metadata file, by any user of this data. Any use will be at the end-user’s sole risk.</distliab>
<stdorder>
<digform>
<digtinfo>
<formname>SID</formname>
</digtinfo>
<digtopt>
<onlinopt>
<computer>
<networka>
<networkr>http://ogrip.oit.ohio.gov/ServicesData/StatewideImagery/tabid/86/Default.aspx</networkr>
</networka>
</computer>
</onlinopt>
<offoptn>
<offmedia>Unknown</offmedia>
<recfmt>Digital</recfmt>
</offoptn>
</digtopt>
</digform>
<fees>None.</fees>
</stdorder>
<availabl>
<timeinfo>
<sngdate>
<caldate>unknown</caldate>
<time>unknown</time>
</sngdate>
</timeinfo>
</availabl>
</distinfo>
<metainfo>
<metd>20131118</metd>
<metc>
<cntinfo>
<cntorgp>
<cntorg>OGRIP</cntorg>
</cntorgp>
<cntpos>GIS Manager</cntpos>
<cntaddr>
<addrtype>mailing and physical address</addrtype>
<address>77 S. High St. - Rm 1990</address>
<city>Columbus</city>
<state>OH</state>
<postal>43215</postal>
<country>USA</country>
</cntaddr>
<cntvoice>(614) 466-4747</cntvoice>
<cntfax>(614) 728-5297</cntfax>
</cntinfo>
</metc>
<metstdn>FGDC Content Standards for Digital Geospatial Metadata</metstdn>
<metstdv>FGDC-STD-001-1998</metstdv>
<mettc>local time</mettc>
</metainfo>
<dataIdInfo>
<idAbs>The state of Ohio has a goal to develop and maintain a seamless statewide base map, referred to as OSIP (Ohio Statewide Imagery Program). OSIP is an initiative... The 2013 Allen County Digital Orthoimagery Project - In the Spring of 2013, AllenCounty obtained new orthoimagery covering the entire county (+/- 407 sq. miles). Products produced (in addition to 4-band, 8-bit orthophotos and Countywide RGB &amp; CIR MrSIDs (30x &amp; 100x Compression)) included City of Lima MrSID (RGB - 100x Compression) . The aerial imagery was collected during leaf-off conditions at a minimum resolution of 6-inch resolution. Along the perimeter of the project area, ortho-imagery is buffered at 100-feet. Adjacent flight lines overlap by an average of 30 percent. Imagery was collected with Leica ADS80 digital cameras and rectified using LiDAR data. Ownership of the data products resides with Allen County and the state of Ohio. Orthoimagery and ancillary data products produced through this contract are public domain data.</idAbs>
<searchKeys>
<keyword>United States</keyword>
<keyword>Ohio</keyword>
<keyword>Allen County</keyword>
<keyword>OH</keyword>
<keyword>Township</keyword>
<keyword>Raster</keyword>
<keyword>Orthophoto</keyword>
</searchKeys>
<idPurp>This layer is used by OH/LEX. See https://gitlab.com/osucura/ohlex and https://ohlex.app.cura.osu.edu/</idPurp>
<idCredit/>
<resConst>
<Consts>
<useLimit/>
</Consts>
</resConst>
<idCitation>
<resTitle>Lima_RGB_100x.sid</resTitle>
</idCitation>
</dataIdInfo>
</metadata>
