{
 "currentVersion": 10.9,
 "serviceDescription": "The state of Ohio has a goal to develop and maintain a seamless statewide base map, referred to as OSIP (Ohio Statewide Imagery Program). OSIP is an initiative... The 2013 Allen County Digital Orthoimagery Project - In the Spring of 2013, AllenCounty obtained new orthoimagery covering the entire county (+/- 407 sq. miles). Products produced (in addition to 4-band, 8-bit orthophotos and Countywide RGB & CIR MrSIDs (30x & 100x Compression)) included City of Lima MrSID (RGB - 100x Compression) . The aerial imagery was collected during leaf-off conditions at a minimum resolution of 6-inch resolution. Along the perimeter of the project area, ortho-imagery is buffered at 100-feet. Adjacent flight lines overlap by an average of 30 percent. Imagery was collected with Leica ADS80 digital cameras and rectified using LiDAR data. Ownership of the data products resides with Allen County and the state of Ohio. Orthoimagery and ancillary data products produced through this contract are public domain data.",
 "name": "lima/Lima_RGB",
 "description": "The state of Ohio has a goal to develop and maintain a seamless statewide base map, referred to as OSIP (Ohio Statewide Imagery Program). OSIP is an initiative... The 2013 Allen County Digital Orthoimagery Project - In the Spring of 2013, AllenCounty obtained new orthoimagery covering the entire county (+/- 407 sq. miles). Products produced (in addition to 4-band, 8-bit orthophotos and Countywide RGB & CIR MrSIDs (30x & 100x Compression)) included City of Lima MrSID (RGB - 100x Compression) . The aerial imagery was collected during leaf-off conditions at a minimum resolution of 6-inch resolution. Along the perimeter of the project area, ortho-imagery is buffered at 100-feet. Adjacent flight lines overlap by an average of 30 percent. Imagery was collected with Leica ADS80 digital cameras and rectified using LiDAR data. Ownership of the data products resides with Allen County and the state of Ohio. Orthoimagery and ancillary data products produced through this contract are public domain data.",
 "extent": {
  "xmin": 1490000,
  "ymin": 357500,
  "xmax": 1555000,
  "ymax": 425000,
  "spatialReference": {
   "wkt": "PROJCS[\"NAD_1983_HARN_Ohio_North_ftUS\",GEOGCS[\"GCS_North_American_1983_HARN\",DATUM[\"D_North_American_1983_HARN\",SPHEROID[\"GRS_1980\",6378137.0,298.257222101]],PRIMEM[\"Greenwich\",0.0],UNIT[\"Degree\",0.0174532925199433]],PROJECTION[\"Lambert_Conformal_Conic\"],PARAMETER[\"false_easting\",1968500.0],PARAMETER[\"false_northing\",0.0],PARAMETER[\"central_meridian\",-82.5],PARAMETER[\"standard_parallel_1\",40.43333333333333],PARAMETER[\"standard_parallel_2\",41.7],PARAMETER[\"latitude_of_origin\",39.66666666666666],UNIT[\"Foot_US\",0.3048006096012192]]"
  }
 },
 "initialExtent": {
  "xmin": 1490000,
  "ymin": 357500,
  "xmax": 1555000,
  "ymax": 425000,
  "spatialReference": {
   "wkt": "PROJCS[\"NAD_1983_HARN_Ohio_North_ftUS\",GEOGCS[\"GCS_North_American_1983_HARN\",DATUM[\"D_North_American_1983_HARN\",SPHEROID[\"GRS_1980\",6378137.0,298.257222101]],PRIMEM[\"Greenwich\",0.0],UNIT[\"Degree\",0.0174532925199433]],PROJECTION[\"Lambert_Conformal_Conic\"],PARAMETER[\"false_easting\",1968500.0],PARAMETER[\"false_northing\",0.0],PARAMETER[\"central_meridian\",-82.5],PARAMETER[\"standard_parallel_1\",40.43333333333333],PARAMETER[\"standard_parallel_2\",41.7],PARAMETER[\"latitude_of_origin\",39.66666666666666],UNIT[\"Foot_US\",0.3048006096012192]]"
  }
 },
 "fullExtent": {
  "xmin": 1490000,
  "ymin": 357500,
  "xmax": 1555000,
  "ymax": 425000,
  "spatialReference": {
   "wkt": "PROJCS[\"NAD_1983_HARN_Ohio_North_ftUS\",GEOGCS[\"GCS_North_American_1983_HARN\",DATUM[\"D_North_American_1983_HARN\",SPHEROID[\"GRS_1980\",6378137.0,298.257222101]],PRIMEM[\"Greenwich\",0.0],UNIT[\"Degree\",0.0174532925199433]],PROJECTION[\"Lambert_Conformal_Conic\"],PARAMETER[\"false_easting\",1968500.0],PARAMETER[\"false_northing\",0.0],PARAMETER[\"central_meridian\",-82.5],PARAMETER[\"standard_parallel_1\",40.43333333333333],PARAMETER[\"standard_parallel_2\",41.7],PARAMETER[\"latitude_of_origin\",39.66666666666666],UNIT[\"Foot_US\",0.3048006096012192]]"
  }
 },
 "pixelSizeX": 0.5,
 "pixelSizeY": 0.5,
 "bandCount": 3,
 "pixelType": "U8",
 "minPixelSize": 0,
 "maxPixelSize": 0,
 "copyrightText": "",
 "serviceDataType": "esriImageServiceDataTypeRGB",
 "minValues": [
  43,
  58,
  24
 ],
 "maxValues": [
  255,
  255,
  255
 ],
 "meanValues": [
  125.23579545455,
  121.48413825758,
  94.24053030303
 ],
 "stdvValues": [
  33.607806335965,
  32.71569933921,
  38.587610682752
 ],
 "objectIdField": "",
 "fields": [],
 "capabilities": "Mensuration,Image,Metadata",
 "defaultMosaicMethod": "Center",
 "allowedMosaicMethods": "",
 "sortField": "",
 "sortValue": null,
 "sortAscending": true,
 "mosaicOperator": "First",
 "defaultCompressionQuality": 75,
 "defaultResamplingMethod": "Bilinear",
 "maxImageHeight": 4100,
 "maxImageWidth": 15000,
 "allowRasterFunction": true,
 "rasterFunctionInfos": [
  {
   "name": "None",
   "description": "",
   "help": ""
  }
 ],
 "rasterTypeInfos": [
  {
   "name": "Raster Dataset",
   "description": "Supports all ArcGIS Raster Datasets",
   "help": ""
  }
 ],
 "mensurationCapabilities": "Basic",
 "hasHistograms": true,
 "hasColormap": false,
 "hasRasterAttributeTable": false,
 "minScale": 0,
 "maxScale": 0,
 "exportTilesAllowed": false,
 "hasMultidimensions": false,
 "supportsStatistics": false,
 "supportsAdvancedQueries": false,
 "editFieldsInfo": null,
 "ownershipBasedAccessControlForRasters": null,
 "allowComputeTiePoints": false,
 "useStandardizedQueries": true,
 "advancedQueryCapabilities": {
  "useStandardizedQueries": true,
  "supportsStatistics": false,
  "supportsOrderBy": false,
  "supportsDistinct": false,
  "supportsPagination": false
 },
 "spatialReference": {
  "wkt": "PROJCS[\"NAD_1983_HARN_Ohio_North_ftUS\",GEOGCS[\"GCS_North_American_1983_HARN\",DATUM[\"D_North_American_1983_HARN\",SPHEROID[\"GRS_1980\",6378137.0,298.257222101]],PRIMEM[\"Greenwich\",0.0],UNIT[\"Degree\",0.0174532925199433]],PROJECTION[\"Lambert_Conformal_Conic\"],PARAMETER[\"false_easting\",1968500.0],PARAMETER[\"false_northing\",0.0],PARAMETER[\"central_meridian\",-82.5],PARAMETER[\"standard_parallel_1\",40.43333333333333],PARAMETER[\"standard_parallel_2\",41.7],PARAMETER[\"latitude_of_origin\",39.66666666666666],UNIT[\"Foot_US\",0.3048006096012192]]"
 }
}
