View In:
ArcGIS JavaScript
ArcGIS Online map viewer
ArcGIS Earth
ArcMap
View Footprint In:
ArcGIS Online map viewer
Service Description: The state of Ohio has a goal to develop and maintain a seamless statewide base map, referred to as OSIP (Ohio Statewide Imagery Program). OSIP is an initiative... The 2013 Allen County Digital Orthoimagery Project - In the Spring of 2013, AllenCounty obtained new orthoimagery covering the entire county (+/- 407 sq. miles). Products produced (in addition to 4-band, 8-bit orthophotos and Countywide RGB & CIR MrSIDs (30x & 100x Compression)) included City of Lima MrSID (RGB - 100x Compression) . The aerial imagery was collected during leaf-off conditions at a minimum resolution of 6-inch resolution. Along the perimeter of the project area, ortho-imagery is buffered at 100-feet. Adjacent flight lines overlap by an average of 30 percent. Imagery was collected with Leica ADS80 digital cameras and rectified using LiDAR data. Ownership of the data products resides with Allen County and the state of Ohio. Orthoimagery and ancillary data products produced through this contract are public domain data.
Name: lima/Lima_RGB
Description: The state of Ohio has a goal to develop and maintain a seamless statewide base map, referred to as OSIP (Ohio Statewide Imagery Program). OSIP is an initiative... The 2013 Allen County Digital Orthoimagery Project - In the Spring of 2013, AllenCounty obtained new orthoimagery covering the entire county (+/- 407 sq. miles). Products produced (in addition to 4-band, 8-bit orthophotos and Countywide RGB & CIR MrSIDs (30x & 100x Compression)) included City of Lima MrSID (RGB - 100x Compression) . The aerial imagery was collected during leaf-off conditions at a minimum resolution of 6-inch resolution. Along the perimeter of the project area, ortho-imagery is buffered at 100-feet. Adjacent flight lines overlap by an average of 30 percent. Imagery was collected with Leica ADS80 digital cameras and rectified using LiDAR data. Ownership of the data products resides with Allen County and the state of Ohio. Orthoimagery and ancillary data products produced through this contract are public domain data.
Single Fused Map Cache: false
Extent:
XMin: 1490000
YMin: 357500
XMax: 1555000
YMax: 425000
Spatial Reference: PROJCS["NAD_1983_HARN_Ohio_North_ftUS",GEOGCS["GCS_North_American_1983_HARN",DATUM["D_North_American_1983_HARN",SPHEROID["GRS_1980",6378137.0,298.257222101]],PRIMEM["Greenwich",0.0],UNIT["Degree",0.0174532925199433]],PROJECTION["Lambert_Conformal_Conic"],PARAMETER["false_easting",1968500.0],PARAMETER["false_northing",0.0],PARAMETER["central_meridian",-82.5],PARAMETER["standard_parallel_1",40.43333333333333],PARAMETER["standard_parallel_2",41.7],PARAMETER["latitude_of_origin",39.66666666666666],UNIT["Foot_US",0.3048006096012192]]
Initial Extent:
XMin: 1490000
YMin: 357500
XMax: 1555000
YMax: 425000
Spatial Reference: PROJCS["NAD_1983_HARN_Ohio_North_ftUS",GEOGCS["GCS_North_American_1983_HARN",DATUM["D_North_American_1983_HARN",SPHEROID["GRS_1980",6378137.0,298.257222101]],PRIMEM["Greenwich",0.0],UNIT["Degree",0.0174532925199433]],PROJECTION["Lambert_Conformal_Conic"],PARAMETER["false_easting",1968500.0],PARAMETER["false_northing",0.0],PARAMETER["central_meridian",-82.5],PARAMETER["standard_parallel_1",40.43333333333333],PARAMETER["standard_parallel_2",41.7],PARAMETER["latitude_of_origin",39.66666666666666],UNIT["Foot_US",0.3048006096012192]]
Full Extent:
XMin: 1490000
YMin: 357500
XMax: 1555000
YMax: 425000
Spatial Reference: PROJCS["NAD_1983_HARN_Ohio_North_ftUS",GEOGCS["GCS_North_American_1983_HARN",DATUM["D_North_American_1983_HARN",SPHEROID["GRS_1980",6378137.0,298.257222101]],PRIMEM["Greenwich",0.0],UNIT["Degree",0.0174532925199433]],PROJECTION["Lambert_Conformal_Conic"],PARAMETER["false_easting",1968500.0],PARAMETER["false_northing",0.0],PARAMETER["central_meridian",-82.5],PARAMETER["standard_parallel_1",40.43333333333333],PARAMETER["standard_parallel_2",41.7],PARAMETER["latitude_of_origin",39.66666666666666],UNIT["Foot_US",0.3048006096012192]]
Pixel Size X: 0.5
Pixel Size Y: 0.5
Band Count: 3
Pixel Type: U8
RasterFunction Infos: {"rasterFunctionInfos": [{
"name": "None",
"description": "",
"help": ""
}]}
Mensuration Capabilities: Basic
Has Histograms: true
Has Colormap: false
Has Multi Dimensions : false
Rendering Rule:
Min Scale: 0
Max Scale: 0
Copyright Text:
Service Data Type: esriImageServiceDataTypeRGB
Min Values: 43, 58, 24
Max Values: 255, 255, 255
Mean Values: 125.23579545455, 121.48413825758, 94.24053030303
Standard Deviation Values: 33.607806335965, 32.71569933921, 38.587610682752
Object ID Field:
Fields:
None
Default Mosaic Method: Center
Allowed Mosaic Methods:
SortField:
SortValue: null
Mosaic Operator: First
Default Compression Quality: 75
Default Resampling Method: Bilinear
Max Record Count: null
Max Image Height: 4100
Max Image Width: 15000
Max Download Image Count: null
Max Mosaic Image Count: null
Allow Raster Function: true
Allow Copy: null
Allow Analysis: null
Allow Compute TiePoints: false
Supports Statistics: false
Supports Advanced Queries: false
Use StandardizedQueries: true
Raster Type Infos:
Name: Raster Dataset
Description: Supports all ArcGIS Raster Datasets
Help:
Has Raster Attribute Table: false
Edit Fields Info: null
Ownership Based AccessControl For Rasters: null
Child Resources:
Info
Histograms
Key Properties
Legend
Raster Function Infos
Supported Operations:
Export Image
Identify
Measure
Compute Histograms
Compute Statistics Histograms
Get Samples
Compute Class Statistics
Query Boundary
Compute Pixel Location
Validate
Project